<?xml version="1.0" encoding="UTF-8"?>
<Capabilities xmlns="http://www.opengis.net/wmts/1.0" xmlns:ows="http://www.opengis.net/ows/1.1" xmlns:xlink="http://www.w3.org/1999/xlink" xmlns:xsi="http://www.w3.org/2001/XMLSchema-instance" xmlns:gml="http://www.opengis.net/gml" xsi:schemaLocation="http://www.opengis.net/wmts/1.0 http://schemas.opengis.net/wmts/1.0/wmtsGetCapabilities_response.xsd" version="1.0.0"><ows:ServiceIdentification><ows:Title>WMTS service for DTM</ows:Title><ows:Abstract>WMTS mapsevice provided by MapCache</ows:Abstract><ows:ServiceType>OGC WMTS</ows:ServiceType><ows:ServiceTypeVersion>1.0.0</ows:ServiceTypeVersion></ows:ServiceIdentification><ows:ServiceProvider><ows:ServiceContact><ows:IndividualName>Ing. Jiří Holas</ows:IndividualName><ows:ContactInfo><ows:Phone><ows:Voice>+420 736 521 816</ows:Voice></ows:Phone><ows:Address><ows:DeliveryPoint>Oddělení GIS a DTM, Krajský úřad Královehradeckého kraje</ows:DeliveryPoint><ows:City>Hradec Králové</ows:City><ows:AdministrativeArea>Královehradecký</ows:AdministrativeArea><ows:PostalCode>500 03</ows:PostalCode></ows:Address></ows:ContactInfo></ows:ServiceContact></ows:ServiceProvider><ows:OperationsMetadata><ows:Operation name="GetCapabilities"><ows:DCP><ows:HTTP><ows:Get xlink:href="https://khk.krajdtm.cz/mapservice/v1/wmts?"><ows:Constraint name="GetEncoding"><ows:AllowedValues><ows:Value>KVP</ows:Value></ows:AllowedValues></ows:Constraint></ows:Get></ows:HTTP></ows:DCP></ows:Operation><ows:Operation name="GetTile"><ows:DCP><ows:HTTP><ows:Get xlink:href="https://khk.krajdtm.cz/mapservice/v1/wmts?"><ows:Constraint name="GetEncoding"><ows:AllowedValues><ows:Value>KVP</ows:Value></ows:AllowedValues></ows:Constraint></ows:Get></ows:HTTP></ows:DCP></ows:Operation><ows:Operation name="GetFeatureInfo"><ows:DCP><ows:HTTP><ows:Get xlink:href="https://khk.krajdtm.cz/mapservice/v1/wmts?"><ows:Constraint name="GetEncoding"><ows:AllowedValues><ows:Value>KVP</ows:Value></ows:AllowedValues></ows:Constraint></ows:Get></ows:HTTP></ows:DCP></ows:Operation></ows:OperationsMetadata><Contents><Layer><ows:Title>dtm_zps_plochy_bar</ows:Title><ows:Identifier>dtm_zps_plochy_bar</ows:Identifier><Style isDefault="true"><ows:Identifier>default</ows:Identifier></Style><Format>image/png</Format><TileMatrixSetLink><TileMatrixSet>grid_5514</TileMatrixSet></TileMatrixSetLink><TileMatrixSetLink><TileMatrixSet>grid_3857</TileMatrixSet></TileMatrixSetLink><ResourceURL format="image/png" resourceType="tile" template="https://khk.krajdtm.cz/mapservice/v1/wmts/1.0.0/dtm_zps_plochy_bar/default/{TileMatrixSet}/{TileMatrix}/{TileRow}/{TileCol}.png"></ResourceURL></Layer><Layer><ows:Title>dtm_zps_plochy_seda</ows:Title><ows:Identifier>dtm_zps_plochy_seda</ows:Identifier><Style isDefault="true"><ows:Identifier>default</ows:Identifier></Style><Format>image/png</Format><TileMatrixSetLink><TileMatrixSet>grid_5514</TileMatrixSet></TileMatrixSetLink><TileMatrixSetLink><TileMatrixSet>grid_3857</TileMatrixSet></TileMatrixSetLink><ResourceURL format="image/png" resourceType="tile" template="https://khk.krajdtm.cz/mapservice/v1/wmts/1.0.0/dtm_zps_plochy_seda/default/{TileMatrixSet}/{TileMatrix}/{TileRow}/{TileCol}.png"></ResourceURL></Layer><Layer><ows:Title>ortofoto</ows:Title><ows:Identifier>ortofoto</ows:Identifier><Style isDefault="true"><ows:Identifier>default</ows:Identifier></Style><Format>image/png</Format><TileMatrixSetLink><TileMatrixSet>grid_5514</TileMatrixSet></TileMatrixSetLink><ResourceURL format="image/png" resourceType="tile" template="https://khk.krajdtm.cz/mapservice/v1/wmts/1.0.0/ortofoto/default/{TileMatrixSet}/{TileMatrix}/{TileRow}/{TileCol}.png"></ResourceURL></Layer><Layer><ows:Title>dtm_ti_ver</ows:Title><ows:Identifier>dtm_ti_ver</ows:Identifier><Style isDefault="true"><ows:Identifier>default</ows:Identifier></Style><Format>image/png</Format><TileMatrixSetLink><TileMatrixSet>grid_5514</TileMatrixSet></TileMatrixSetLink><TileMatrixSetLink><TileMatrixSet>grid_3857</TileMatrixSet></TileMatrixSetLink><ResourceURL format="image/png" resourceType="tile" template="https://khk.krajdtm.cz/mapservice/v1/wmts/1.0.0/dtm_ti_ver/default/{TileMatrixSet}/{TileMatrix}/{TileRow}/{TileCol}.png"></ResourceURL></Layer><Layer><ows:Title>dtm_di_ver</ows:Title><ows:Identifier>dtm_di_ver</ows:Identifier><Style isDefault="true"><ows:Identifier>default</ows:Identifier></Style><Format>image/png</Format><TileMatrixSetLink><TileMatrixSet>grid_5514</TileMatrixSet></TileMatrixSetLink><TileMatrixSetLink><TileMatrixSet>grid_3857</TileMatrixSet></TileMatrixSetLink><ResourceURL format="image/png" resourceType="tile" template="https://khk.krajdtm.cz/mapservice/v1/wmts/1.0.0/dtm_di_ver/default/{TileMatrixSet}/{TileMatrix}/{TileRow}/{TileCol}.png"></ResourceURL></Layer><Layer><ows:Title>dtm_zps_linie_body</ows:Title><ows:Identifier>dtm_zps_linie_body</ows:Identifier><Style isDefault="true"><ows:Identifier>default</ows:Identifier></Style><Format>image/png</Format><TileMatrixSetLink><TileMatrixSet>grid_5514</TileMatrixSet></TileMatrixSetLink><TileMatrixSetLink><TileMatrixSet>grid_3857</TileMatrixSet></TileMatrixSetLink><ResourceURL format="image/png" resourceType="tile" template="https://khk.krajdtm.cz/mapservice/v1/wmts/1.0.0/dtm_zps_linie_body/default/{TileMatrixSet}/{TileMatrix}/{TileRow}/{TileCol}.png"></ResourceURL></Layer><Layer><ows:Title>dtm_geod_kart_prvky</ows:Title><ows:Identifier>dtm_geod_kart_prvky</ows:Identifier><Style isDefault="true"><ows:Identifier>default</ows:Identifier></Style><Format>image/png</Format><TileMatrixSetLink><TileMatrixSet>grid_5514</TileMatrixSet></TileMatrixSetLink><TileMatrixSetLink><TileMatrixSet>grid_3857</TileMatrixSet></TileMatrixSetLink><ResourceURL format="image/png" resourceType="tile" template="https://khk.krajdtm.cz/mapservice/v1/wmts/1.0.0/dtm_geod_kart_prvky/default/{TileMatrixSet}/{TileMatrix}/{TileRow}/{TileCol}.png"></ResourceURL></Layer><TileMatrixSet><ows:Identifier>grid_5514</ows:Identifier><ows:BoundingBox crs="urn:ogc:def:crs:EPSG:6.3:5514"><ows:LowerCorner>-925000.000000 -1230000.000000</ows:LowerCorner><ows:UpperCorner>-430000.000000 -920000.000000</ows:UpperCorner></ows:BoundingBox><ows:SupportedCRS>urn:ogc:def:crs:EPSG:6.3:5514</ows:SupportedCRS><TileMatrix><ows:Identifier>0</ows:Identifier><ScaleDenominator>7315200.00000000000000000000</ScaleDenominator><TopLeftCorner>-925000.000000 -920000.000000</TopLeftCorner><TileWidth>256</TileWidth><TileHeight>256</TileHeight><MatrixWidth>1</MatrixWidth><MatrixHeight>1</MatrixHeight></TileMatrix><TileMatrix><ows:Identifier>1</ows:Identifier><ScaleDenominator>3657600.00000000000000000000</ScaleDenominator><TopLeftCorner>-925000.000000 -920000.000000</TopLeftCorner><TileWidth>256</TileWidth><TileHeight>256</TileHeight><MatrixWidth>2</MatrixWidth><MatrixHeight>2</MatrixHeight></TileMatrix><TileMatrix><ows:Identifier>2</ows:Identifier><ScaleDenominator>1828800.00000000000000000000</ScaleDenominator><TopLeftCorner>-925000.000000 -920000.000000</TopLeftCorner><TileWidth>256</TileWidth><TileHeight>256</TileHeight><MatrixWidth>4</MatrixWidth><MatrixHeight>3</MatrixHeight></TileMatrix><TileMatrix><ows:Identifier>3</ows:Identifier><ScaleDenominator>914400.00000000000000000000</ScaleDenominator><TopLeftCorner>-925000.000000 -920000.000000</TopLeftCorner><TileWidth>256</TileWidth><TileHeight>256</TileHeight><MatrixWidth>8</MatrixWidth><MatrixHeight>5</MatrixHeight></TileMatrix><TileMatrix><ows:Identifier>4</ows:Identifier><ScaleDenominator>457200.00000000000000000000</ScaleDenominator><TopLeftCorner>-925000.000000 -920000.000000</TopLeftCorner><TileWidth>256</TileWidth><TileHeight>256</TileHeight><MatrixWidth>16</MatrixWidth><MatrixHeight>10</MatrixHeight></TileMatrix><TileMatrix><ows:Identifier>5</ows:Identifier><ScaleDenominator>228600.00000000000000000000</ScaleDenominator><TopLeftCorner>-925000.000000 -920000.000000</TopLeftCorner><TileWidth>256</TileWidth><TileHeight>256</TileHeight><MatrixWidth>31</MatrixWidth><MatrixHeight>19</MatrixHeight></TileMatrix><TileMatrix><ows:Identifier>6</ows:Identifier><ScaleDenominator>114300.00000000000000000000</ScaleDenominator><TopLeftCorner>-925000.000000 -920000.000000</TopLeftCorner><TileWidth>256</TileWidth><TileHeight>256</TileHeight><MatrixWidth>61</MatrixWidth><MatrixHeight>38</MatrixHeight></TileMatrix><TileMatrix><ows:Identifier>7</ows:Identifier><ScaleDenominator>57150.00000000000000000000</ScaleDenominator><TopLeftCorner>-925000.000000 -920000.000000</TopLeftCorner><TileWidth>256</TileWidth><TileHeight>256</TileHeight><MatrixWidth>121</MatrixWidth><MatrixHeight>76</MatrixHeight></TileMatrix><TileMatrix><ows:Identifier>8</ows:Identifier><ScaleDenominator>28575.00000000000000000000</ScaleDenominator><TopLeftCorner>-925000.000000 -920000.000000</TopLeftCorner><TileWidth>256</TileWidth><TileHeight>256</TileHeight><MatrixWidth>242</MatrixWidth><MatrixHeight>152</MatrixHeight></TileMatrix><TileMatrix><ows:Identifier>9</ows:Identifier><ScaleDenominator>14287.50000000000000000000</ScaleDenominator><TopLeftCorner>-925000.000000 -920000.000000</TopLeftCorner><TileWidth>256</TileWidth><TileHeight>256</TileHeight><MatrixWidth>484</MatrixWidth><MatrixHeight>303</MatrixHeight></TileMatrix><TileMatrix><ows:Identifier>10</ows:Identifier><ScaleDenominator>7143.75000000000000000000</ScaleDenominator><TopLeftCorner>-925000.000000 -920000.000000</TopLeftCorner><TileWidth>256</TileWidth><TileHeight>256</TileHeight><MatrixWidth>967</MatrixWidth><MatrixHeight>606</MatrixHeight></TileMatrix><TileMatrix><ows:Identifier>11</ows:Identifier><ScaleDenominator>3571.87500000000000000000</ScaleDenominator><TopLeftCorner>-925000.000000 -920000.000000</TopLeftCorner><TileWidth>256</TileWidth><TileHeight>256</TileHeight><MatrixWidth>1934</MatrixWidth><MatrixHeight>1211</MatrixHeight></TileMatrix><TileMatrix><ows:Identifier>12</ows:Identifier><ScaleDenominator>1785.93750000000000000000</ScaleDenominator><TopLeftCorner>-925000.000000 -920000.000000</TopLeftCorner><TileWidth>256</TileWidth><TileHeight>256</TileHeight><MatrixWidth>3867</MatrixWidth><MatrixHeight>2422</MatrixHeight></TileMatrix><TileMatrix><ows:Identifier>13</ows:Identifier><ScaleDenominator>892.96875000000000000000</ScaleDenominator><TopLeftCorner>-925000.000000 -920000.000000</TopLeftCorner><TileWidth>256</TileWidth><TileHeight>256</TileHeight><MatrixWidth>7734</MatrixWidth><MatrixHeight>4844</MatrixHeight></TileMatrix><TileMatrix><ows:Identifier>14</ows:Identifier><ScaleDenominator>446.48437500000000000000</ScaleDenominator><TopLeftCorner>-925000.000000 -920000.000000</TopLeftCorner><TileWidth>256</TileWidth><TileHeight>256</TileHeight><MatrixWidth>15467</MatrixWidth><MatrixHeight>9687</MatrixHeight></TileMatrix><TileMatrix><ows:Identifier>15</ows:Identifier><ScaleDenominator>223.24218750000000000000</ScaleDenominator><TopLeftCorner>-925000.000000 -920000.000000</TopLeftCorner><TileWidth>256</TileWidth><TileHeight>256</TileHeight><MatrixWidth>30934</MatrixWidth><MatrixHeight>19373</MatrixHeight></TileMatrix><TileMatrix><ows:Identifier>16</ows:Identifier><ScaleDenominator>111.62109375000000000000</ScaleDenominator><TopLeftCorner>-925000.000000 -920000.000000</TopLeftCorner><TileWidth>256</TileWidth><TileHeight>256</TileHeight><MatrixWidth>61868</MatrixWidth><MatrixHeight>38746</MatrixHeight></TileMatrix><TileMatrix><ows:Identifier>17</ows:Identifier><ScaleDenominator>55.81054687500000000000</ScaleDenominator><TopLeftCorner>-925000.000000 -920000.000000</TopLeftCorner><TileWidth>256</TileWidth><TileHeight>256</TileHeight><MatrixWidth>123735</MatrixWidth><MatrixHeight>77491</MatrixHeight></TileMatrix></TileMatrixSet><TileMatrixSet><ows:Identifier>grid_3857</ows:Identifier><ows:BoundingBox crs="urn:ogc:def:crs:EPSG:6.3:3857"><ows:LowerCorner>-20037508.342789 -20037508.342789</ows:LowerCorner><ows:UpperCorner>20037508.342789 20037508.342789</ows:UpperCorner></ows:BoundingBox><ows:SupportedCRS>urn:ogc:def:crs:EPSG:6.3:3857</ows:SupportedCRS><TileMatrix><ows:Identifier>0</ows:Identifier><ScaleDenominator>559082264.02871787548065185547</ScaleDenominator><TopLeftCorner>-20037508.342789 20037508.342789</TopLeftCorner><TileWidth>256</TileWidth><TileHeight>256</TileHeight><MatrixWidth>1</MatrixWidth><MatrixHeight>1</MatrixHeight></TileMatrix><TileMatrix><ows:Identifier>1</ows:Identifier><ScaleDenominator>279541132.01435887813568115234</ScaleDenominator><TopLeftCorner>-20037508.342789 20037508.342789</TopLeftCorner><TileWidth>256</TileWidth><TileHeight>256</TileHeight><MatrixWidth>2</MatrixWidth><MatrixHeight>2</MatrixHeight></TileMatrix><TileMatrix><ows:Identifier>2</ows:Identifier><ScaleDenominator>139770566.00717940926551818848</ScaleDenominator><TopLeftCorner>-20037508.342789 20037508.342789</TopLeftCorner><TileWidth>256</TileWidth><TileHeight>256</TileHeight><MatrixWidth>4</MatrixWidth><MatrixHeight>4</MatrixHeight></TileMatrix><TileMatrix><ows:Identifier>3</ows:Identifier><ScaleDenominator>69885283.00358971953392028809</ScaleDenominator><TopLeftCorner>-20037508.342789 20037508.342789</TopLeftCorner><TileWidth>256</TileWidth><TileHeight>256</TileHeight><MatrixWidth>8</MatrixWidth><MatrixHeight>8</MatrixHeight></TileMatrix><TileMatrix><ows:Identifier>4</ows:Identifier><ScaleDenominator>34942641.50179485976696014404</ScaleDenominator><TopLeftCorner>-20037508.342789 20037508.342789</TopLeftCorner><TileWidth>256</TileWidth><TileHeight>256</TileHeight><MatrixWidth>16</MatrixWidth><MatrixHeight>16</MatrixHeight></TileMatrix><TileMatrix><ows:Identifier>5</ows:Identifier><ScaleDenominator>17471320.75089742988348007202</ScaleDenominator><TopLeftCorner>-20037508.342789 20037508.342789</TopLeftCorner><TileWidth>256</TileWidth><TileHeight>256</TileHeight><MatrixWidth>32</MatrixWidth><MatrixHeight>32</MatrixHeight></TileMatrix><TileMatrix><ows:Identifier>6</ows:Identifier><ScaleDenominator>8735660.37544871494174003601</ScaleDenominator><TopLeftCorner>-20037508.342789 20037508.342789</TopLeftCorner><TileWidth>256</TileWidth><TileHeight>256</TileHeight><MatrixWidth>64</MatrixWidth><MatrixHeight>64</MatrixHeight></TileMatrix><TileMatrix><ows:Identifier>7</ows:Identifier><ScaleDenominator>4367830.18772435747087001801</ScaleDenominator><TopLeftCorner>-20037508.342789 20037508.342789</TopLeftCorner><TileWidth>256</TileWidth><TileHeight>256</TileHeight><MatrixWidth>128</MatrixWidth><MatrixHeight>128</MatrixHeight></TileMatrix><TileMatrix><ows:Identifier>8</ows:Identifier><ScaleDenominator>2183915.09386217873543500900</ScaleDenominator><TopLeftCorner>-20037508.342789 20037508.342789</TopLeftCorner><TileWidth>256</TileWidth><TileHeight>256</TileHeight><MatrixWidth>256</MatrixWidth><MatrixHeight>256</MatrixHeight></TileMatrix><TileMatrix><ows:Identifier>9</ows:Identifier><ScaleDenominator>1091957.54693108866922557354</ScaleDenominator><TopLeftCorner>-20037508.342789 20037508.342789</TopLeftCorner><TileWidth>256</TileWidth><TileHeight>256</TileHeight><MatrixWidth>512</MatrixWidth><MatrixHeight>512</MatrixHeight></TileMatrix><TileMatrix><ows:Identifier>10</ows:Identifier><ScaleDenominator>545978.77346554468385875225</ScaleDenominator><TopLeftCorner>-20037508.342789 20037508.342789</TopLeftCorner><TileWidth>256</TileWidth><TileHeight>256</TileHeight><MatrixWidth>1024</MatrixWidth><MatrixHeight>1024</MatrixHeight></TileMatrix><TileMatrix><ows:Identifier>11</ows:Identifier><ScaleDenominator>272989.38673277228372171521</ScaleDenominator><TopLeftCorner>-20037508.342789 20037508.342789</TopLeftCorner><TileWidth>256</TileWidth><TileHeight>256</TileHeight><MatrixWidth>2048</MatrixWidth><MatrixHeight>2048</MatrixHeight></TileMatrix><TileMatrix><ows:Identifier>12</ows:Identifier><ScaleDenominator>136494.69336638617096468806</ScaleDenominator><TopLeftCorner>-20037508.342789 20037508.342789</TopLeftCorner><TileWidth>256</TileWidth><TileHeight>256</TileHeight><MatrixWidth>4096</MatrixWidth><MatrixHeight>4096</MatrixHeight></TileMatrix><TileMatrix><ows:Identifier>13</ows:Identifier><ScaleDenominator>68247.34668319307093042880</ScaleDenominator><TopLeftCorner>-20037508.342789 20037508.342789</TopLeftCorner><TileWidth>256</TileWidth><TileHeight>256</TileHeight><MatrixWidth>8192</MatrixWidth><MatrixHeight>8192</MatrixHeight></TileMatrix><TileMatrix><ows:Identifier>14</ows:Identifier><ScaleDenominator>34123.67334159654274117202</ScaleDenominator><TopLeftCorner>-20037508.342789 20037508.342789</TopLeftCorner><TileWidth>256</TileWidth><TileHeight>256</TileHeight><MatrixWidth>16384</MatrixWidth><MatrixHeight>16384</MatrixHeight></TileMatrix><TileMatrix><ows:Identifier>15</ows:Identifier><ScaleDenominator>17061.83667079827137058601</ScaleDenominator><TopLeftCorner>-20037508.342789 20037508.342789</TopLeftCorner><TileWidth>256</TileWidth><TileHeight>256</TileHeight><MatrixWidth>32768</MatrixWidth><MatrixHeight>32768</MatrixHeight></TileMatrix><TileMatrix><ows:Identifier>16</ows:Identifier><ScaleDenominator>8530.91833539913568529300</ScaleDenominator><TopLeftCorner>-20037508.342789 20037508.342789</TopLeftCorner><TileWidth>256</TileWidth><TileHeight>256</TileHeight><MatrixWidth>65536</MatrixWidth><MatrixHeight>65536</MatrixHeight></TileMatrix><TileMatrix><ows:Identifier>17</ows:Identifier><ScaleDenominator>4265.45916769956784264650</ScaleDenominator><TopLeftCorner>-20037508.342789 20037508.342789</TopLeftCorner><TileWidth>256</TileWidth><TileHeight>256</TileHeight><MatrixWidth>131072</MatrixWidth><MatrixHeight>131072</MatrixHeight></TileMatrix><TileMatrix><ows:Identifier>18</ows:Identifier><ScaleDenominator>2132.72958384978392132325</ScaleDenominator><TopLeftCorner>-20037508.342789 20037508.342789</TopLeftCorner><TileWidth>256</TileWidth><TileHeight>256</TileHeight><MatrixWidth>262144</MatrixWidth><MatrixHeight>262144</MatrixHeight></TileMatrix><TileMatrix><ows:Identifier>19</ows:Identifier><ScaleDenominator>1066.36479192489196066163</ScaleDenominator><TopLeftCorner>-20037508.342789 20037508.342789</TopLeftCorner><TileWidth>256</TileWidth><TileHeight>256</TileHeight><MatrixWidth>524288</MatrixWidth><MatrixHeight>524288</MatrixHeight></TileMatrix><TileMatrix><ows:Identifier>20</ows:Identifier><ScaleDenominator>533.18239596244598033081</ScaleDenominator><TopLeftCorner>-20037508.342789 20037508.342789</TopLeftCorner><TileWidth>256</TileWidth><TileHeight>256</TileHeight><MatrixWidth>1048576</MatrixWidth><MatrixHeight>1048576</MatrixHeight></TileMatrix><TileMatrix><ows:Identifier>21</ows:Identifier><ScaleDenominator>266.59119798122299016541</ScaleDenominator><TopLeftCorner>-20037508.342789 20037508.342789</TopLeftCorner><TileWidth>256</TileWidth><TileHeight>256</TileHeight><MatrixWidth>2097152</MatrixWidth><MatrixHeight>2097152</MatrixHeight></TileMatrix><TileMatrix><ows:Identifier>22</ows:Identifier><ScaleDenominator>133.29559899061149508270</ScaleDenominator><TopLeftCorner>-20037508.342789 20037508.342789</TopLeftCorner><TileWidth>256</TileWidth><TileHeight>256</TileHeight><MatrixWidth>4194304</MatrixWidth><MatrixHeight>4194304</MatrixHeight></TileMatrix><TileMatrix><ows:Identifier>23</ows:Identifier><ScaleDenominator>66.64779949530574754135</ScaleDenominator><TopLeftCorner>-20037508.342789 20037508.342789</TopLeftCorner><TileWidth>256</TileWidth><TileHeight>256</TileHeight><MatrixWidth>8388608</MatrixWidth><MatrixHeight>8388608</MatrixHeight></TileMatrix></TileMatrixSet></Contents></Capabilities>